BEGIN:VCALENDAR
VERSION:2.0
PRODID:-// - ECPv5.1.2.1//NONSGML v1.0//EN
CALSCALE:GREGORIAN
METHOD:PUBLISH
X-ORIGINAL-URL:https://rbv.lu/wp
X-WR-CALDESC:Veranstaltungen für 
BEGIN:VTIMEZONE
TZID:Europe/Helsinki
BEGIN:DAYLIGHT
TZOFFSETFROM:+0200
TZOFFSETTO:+0300
TZNAME:EEST
DTSTART:20200329T010000
END:DAYLIGHT
BEGIN:STANDARD
TZOFFSETFROM:+0300
TZOFFSETTO:+0200
TZNAME:EET
DTSTART:20201025T010000
END:STANDARD
END:VTIMEZONE
BEGIN:VEVENT
DTSTART;TZID=Europe/Helsinki:20200201T140000
DTEND;TZID=Europe/Helsinki:20200201T190000
DTSTAMP:20200811T183228
CREATED:20191219T205715Z
LAST-MODIFIED:20191225T084853Z
UID:643-1580565600-1580583600@rbv.lu
SUMMARY:Kannerfuesbâl
DESCRIPTION:
URL:https://rbv.lu/wp/index.php/event/kannerfuesbal/
LOCATION:Kulturschapp Eilereng\, 13\, rue du Kulturschapp\, Eilereng\, 4381\, Luxembourg
CATEGORIES:Fest,RBV
ATTACH;FMTTYPE=image/jpeg:https://rbv.lu/wp/wp-content/uploads/2019/12/fuesbal-1.2.20.jpeg
ORGANIZER;CN="RBV":MAILTO:info@rbv.lu
END:VEVENT
END:VCALENDAR